BEGIN:VCALENDAR
VERSION:2.0
PRODID:-//BENN Allende-Viertel - ECPv6.15.20//NONSGML v1.0//EN
CALSCALE:GREGORIAN
METHOD:PUBLISH
X-ORIGINAL-URL:https://www.benn-allende-viertel.de
X-WR-CALDESC:Veranstaltungen für BENN Allende-Viertel
REFRESH-INTERVAL;VALUE=DURATION:PT1H
X-Robots-Tag:noindex
X-PUBLISHED-TTL:PT1H
BEGIN:VTIMEZONE
TZID:Europe/Berlin
BEGIN:DAYLIGHT
TZOFFSETFROM:+0100
TZOFFSETTO:+0200
TZNAME:CEST
DTSTART:20240331T010000
END:DAYLIGHT
BEGIN:STANDARD
TZOFFSETFROM:+0200
TZOFFSETTO:+0100
TZNAME:CET
DTSTART:20241027T010000
END:STANDARD
BEGIN:DAYLIGHT
TZOFFSETFROM:+0100
TZOFFSETTO:+0200
TZNAME:CEST
DTSTART:20250330T010000
END:DAYLIGHT
BEGIN:STANDARD
TZOFFSETFROM:+0200
TZOFFSETTO:+0100
TZNAME:CET
DTSTART:20251026T010000
END:STANDARD
BEGIN:DAYLIGHT
TZOFFSETFROM:+0100
TZOFFSETTO:+0200
TZNAME:CEST
DTSTART:20260329T010000
END:DAYLIGHT
BEGIN:STANDARD
TZOFFSETFROM:+0200
TZOFFSETTO:+0100
TZNAME:CET
DTSTART:20261025T010000
END:STANDARD
BEGIN:DAYLIGHT
TZOFFSETFROM:+0100
TZOFFSETTO:+0200
TZNAME:CEST
DTSTART:20270328T010000
END:DAYLIGHT
BEGIN:STANDARD
TZOFFSETFROM:+0200
TZOFFSETTO:+0100
TZNAME:CET
DTSTART:20271031T010000
END:STANDARD
END:VTIMEZONE
BEGIN:VEVENT
DTSTART;TZID=Europe/Berlin:20260325T190000
DTEND;TZID=Europe/Berlin:20260325T210000
DTSTAMP:20260423T115205
CREATED:20260220T171457Z
LAST-MODIFIED:20260220T171457Z
UID:10001940-1774465200-1774472400@www.benn-allende-viertel.de
SUMMARY:Filmvorführung "Ohne Chefs-Demokratie bei der Arbeit"
DESCRIPTION:Filmvorführung „Ohne Chefs-Demokratie bei der Arbeit“ mit Gesprächsrunde \nMittwoch\, 25.03.2026 | 19 Uhr | JFE Würfel\, Alfred-Randt-Str. 52\, 12559 Berlin
URL:https://www.benn-allende-viertel.de/event/filmvorfuehrung-ohne-chefs-demokratie-bei-der-arbeit/
LOCATION:JFE Würfel\, Alfred-Randt-Straße 52\, Berlin\, Berlin\, 12559\, Deutschland
CATEGORIES:externe Veranstaltung
ATTACH;FMTTYPE=image/png:https://www.benn-allende-viertel.de/wp-content/uploads/sites/8/2026/02/Screenshot-2026-02-20-160258.png
ORGANIZER;CN="Kollektiv Kulturkomb%C3%BCse":MAILTO:kontakt@kulturkombuese.de
END:VEVENT
BEGIN:VEVENT
DTSTART;TZID=Europe/Berlin:20260107T190000
DTEND;TZID=Europe/Berlin:20260107T220000
DTSTAMP:20260423T115205
CREATED:20251215T114011Z
LAST-MODIFIED:20251215T114011Z
UID:10001810-1767812400-1767823200@www.benn-allende-viertel.de
SUMMARY:Filmvorführung "Lebensretter auf dem Mittelmeer"
DESCRIPTION:Wir zeigen die Dokumentation „Lebensretter auf dem Mittelmeer“ \nDie Besatzung der Sea Punk I ist zum ersten Mal im Einsatz\, um Geflüchtete in Seenot zu retten. Wie man Menschen vor dem Ertrinken rettet\, haben einige der Freiwilligen erst wenige Tage zuvor gelernt. Jetzt zeigt sich\, ob die zivilen Seenotretter*innen der Herausforderung des Flüchtlingsstroms auf dem Mittelmeer gewachsen sind. \nEine Spendenkampagne starten\, ein Schiff kaufen und damit Flüchtende retten – das ist der Plan von Gerson Reschke\, als er 2020 mit Gleichgesinnten den Verein „Sea Punks“ gründet. Die Gruppe will nicht länger tatenlos zuschauen\, wie Flüchtende im Mittelmeer ertrinken. Seit 2014 starben mehr als 27.000 Menschen beim Versuch\, Krieg\, Verfolgung und wirtschaftlichem Elend in ihren Heimatländern über das Mittelmeer zu entkommen. Der Film begleitet die „Sea Punks“ vom Kauf und Umbau des Schiffes bis zum ersten Einsatz.\nTeil der internationalen Crew ist Jura-Studentin Anouck Soubeyran (25). Für die Französin ist es die erste Rettungsmission. Sie wird die Rettung der Menschen vom Beiboot aus koordinieren. Ehrenamtlich mit an Bord ist auch die angehende Ärztin Kristina Hilz (28) aus Schleswig-Holstein. Sie ist für die medizinische Versorgung der geschwächten oder verletzten Geflüchteten zuständig. Die Crew aus Freiwilligen hat Respekt vor dem\, was auf dem Meer auf sie zukommt. Die psychische Belastung ist nicht zu unterschätzen. Ihr Schiff kann bis zu 100 Menschen aufnehmen. Doch niemand weiß\, in welchem Zustand sie die Flüchtenden in den Booten vorfinden.\nNach zehn Trainingstagen macht sich die 13-köpfige Besatzung von Spanien aus auf den Weg vor die tunesische Küste. Nach kurzer Zeit entdecken sie ein Boot mit mehr als 40 Personen aus Benin in Westafrika. Sie sind schon seit drei Tagen auf See – ohne Essen\, Trinken oder Schutz vor der Sonne. Der Zustand einiger Kinder ist kritisch. Jetzt muss bei der noch unerfahrenen Rettungscrew jeder Handgriff sitzen. \nUnser Polit/Doku Kino findet immer in Kombination mit einem leckeren Essen der Kulturkombüse und einer anschl. Diskussion mit Fachteilnehmern statt. Alle unsere Veranstaltungen finden gegen Spende statt\, damit jede/r teilnehmen kann.
URL:https://www.benn-allende-viertel.de/event/filmvorfuehrung-lebensretter-auf-dem-mittelmeer/
LOCATION:JFE Würfel\, Alfred-Randt-Straße 52\, Berlin\, Berlin\, 12559\, Deutschland
ORGANIZER;CN="Kollektiv Kulturkomb%C3%BCse":MAILTO:kontakt@kulturkombuese.de
END:VEVENT
BEGIN:VEVENT
DTSTART;TZID=Europe/Berlin:20251127T180000
DTEND;TZID=Europe/Berlin:20251127T200000
DTSTAMP:20260423T115205
CREATED:20251028T111826Z
LAST-MODIFIED:20251028T111826Z
UID:10001788-1764266400-1764273600@www.benn-allende-viertel.de
SUMMARY:Beats & Suppe
DESCRIPTION:Die Jugendfreizeiteinrichtung „Würfel“ lädt die Nachbraschaft zum vierten und damit letzten DJ Workshop mit Jugendlichen aus dem Allende-Viertel ein. Neben einer ersten musikalischen Kostprobe der jugendlichen DJs wird es eine kostenlose Suppe und Lagerfeuer geben. Kommt vorbei und lauscht gemeinsam mit Euren Nachbarn den Beats der Nachwuchs DJs! \n  \nDie Veranstaltung ist ein Kooperationsprojekt der Jugendfreizeiteinrichtung „Würfel“\, All-Teams (Sylvester e.V.)\, BENN Allende-Viertel und der Mobilen Stadtteilarbeit Allende-Viertel
URL:https://www.benn-allende-viertel.de/event/beats-suppe/
LOCATION:JFE Würfel\, Alfred-Randt-Straße 52\, Berlin\, Berlin\, 12559\, Deutschland
CATEGORIES:Begegnung & Austausch,BENN Kooperation,Familie & Kinder
ATTACH;FMTTYPE=image/png:https://www.benn-allende-viertel.de/wp-content/uploads/sites/8/2025/10/EINLADUNG-BEATS-UND-SUPPE-scaled.png
ORGANIZER;CN="JFE W%C3%BCrfel":MAILTO:Jfe_wuerfel@ba-tk.berlin.de
END:VEVENT
BEGIN:VEVENT
DTSTART;TZID=Europe/Berlin:20251127T180000
DTEND;TZID=Europe/Berlin:20251127T200000
DTSTAMP:20260423T115205
CREATED:20251014T124151Z
LAST-MODIFIED:20251103T162817Z
UID:10001724-1764266400-1764273600@www.benn-allende-viertel.de
SUMMARY:DJ Workshop
DESCRIPTION:Im November geht´s ans DJ – Pult! \nEs gibt noch freie Plätze. Habt ihr selbst Interesse oder kennt Jugendliche\, die gerne mitmachen möchten? Mit dem DJ Andreas Bolz lernt ihr eigene DJ Sets für die nächste Party zu gestalten. \nAnmeldung und Fragen:\nMax: all-team@sylvester-ev.de\noder sprecht direkt die Mitarbeiterinnen im Würfel an. \nDas Projekt ist eine Kooperation zwischen der Mobilen Stadtteilarbeit\, dem All-Team und dem Würfel. Es wird durch die Mittel der Maßnahme: „Stärkung Berliner Großsiedlungen – Verfügungsfond“ unterstützt.
URL:https://www.benn-allende-viertel.de/event/dj-workshop/2025-11-27/
LOCATION:JFE Würfel\, Alfred-Randt-Straße 52\, Berlin\, Berlin\, 12559\, Deutschland
CATEGORIES:externe Veranstaltung,Familie & Kinder
ATTACH;FMTTYPE=image/png:https://www.benn-allende-viertel.de/wp-content/uploads/sites/8/2025/10/DJ-Workshop-insta.png
ORGANIZER;CN="Mobile Stadtteilarbeit Allende Viertel":MAILTO:most-allende@offensiv91.de
END:VEVENT
BEGIN:VEVENT
DTSTART;TZID=Europe/Berlin:20251120T180000
DTEND;TZID=Europe/Berlin:20251120T200000
DTSTAMP:20260423T115205
CREATED:20251014T124151Z
LAST-MODIFIED:20251103T162817Z
UID:10001723-1763661600-1763668800@www.benn-allende-viertel.de
SUMMARY:DJ Workshop
DESCRIPTION:Im November geht´s ans DJ – Pult! \nEs gibt noch freie Plätze. Habt ihr selbst Interesse oder kennt Jugendliche\, die gerne mitmachen möchten? Mit dem DJ Andreas Bolz lernt ihr eigene DJ Sets für die nächste Party zu gestalten. \nAnmeldung und Fragen:\nMax: all-team@sylvester-ev.de\noder sprecht direkt die Mitarbeiterinnen im Würfel an. \nDas Projekt ist eine Kooperation zwischen der Mobilen Stadtteilarbeit\, dem All-Team und dem Würfel. Es wird durch die Mittel der Maßnahme: „Stärkung Berliner Großsiedlungen – Verfügungsfond“ unterstützt.
URL:https://www.benn-allende-viertel.de/event/dj-workshop/2025-11-20/
LOCATION:JFE Würfel\, Alfred-Randt-Straße 52\, Berlin\, Berlin\, 12559\, Deutschland
CATEGORIES:externe Veranstaltung,Familie & Kinder
ATTACH;FMTTYPE=image/png:https://www.benn-allende-viertel.de/wp-content/uploads/sites/8/2025/10/DJ-Workshop-insta.png
ORGANIZER;CN="Mobile Stadtteilarbeit Allende Viertel":MAILTO:most-allende@offensiv91.de
END:VEVENT
BEGIN:VEVENT
DTSTART;TZID=Europe/Berlin:20251113T180000
DTEND;TZID=Europe/Berlin:20251113T200000
DTSTAMP:20260423T115205
CREATED:20251014T124151Z
LAST-MODIFIED:20251103T162817Z
UID:10001722-1763056800-1763064000@www.benn-allende-viertel.de
SUMMARY:DJ Workshop
DESCRIPTION:Im November geht´s ans DJ – Pult! \nEs gibt noch freie Plätze. Habt ihr selbst Interesse oder kennt Jugendliche\, die gerne mitmachen möchten? Mit dem DJ Andreas Bolz lernt ihr eigene DJ Sets für die nächste Party zu gestalten. \nAnmeldung und Fragen:\nMax: all-team@sylvester-ev.de\noder sprecht direkt die Mitarbeiterinnen im Würfel an. \nDas Projekt ist eine Kooperation zwischen der Mobilen Stadtteilarbeit\, dem All-Team und dem Würfel. Es wird durch die Mittel der Maßnahme: „Stärkung Berliner Großsiedlungen – Verfügungsfond“ unterstützt.
URL:https://www.benn-allende-viertel.de/event/dj-workshop/2025-11-13/
LOCATION:JFE Würfel\, Alfred-Randt-Straße 52\, Berlin\, Berlin\, 12559\, Deutschland
CATEGORIES:externe Veranstaltung,Familie & Kinder
ATTACH;FMTTYPE=image/png:https://www.benn-allende-viertel.de/wp-content/uploads/sites/8/2025/10/DJ-Workshop-insta.png
ORGANIZER;CN="Mobile Stadtteilarbeit Allende Viertel":MAILTO:most-allende@offensiv91.de
END:VEVENT
BEGIN:VEVENT
DTSTART;TZID=Europe/Berlin:20251106T180000
DTEND;TZID=Europe/Berlin:20251106T200000
DTSTAMP:20260423T115205
CREATED:20251021T132407Z
LAST-MODIFIED:20251021T132408Z
UID:10001721-1762452000-1762459200@www.benn-allende-viertel.de
SUMMARY:DJ Workshop
DESCRIPTION:Im November geht´s ans DJ – Pult! \nEs gibt noch freie Plätze. Habt ihr selbst Interesse oder kennt Jugendliche\, die gerne mitmachen möchten? Mit dem DJ Andreas Bolz lernt ihr eigene DJ Sets für die nächste Party zu gestalten. \nAnmeldung und Fragen:\nMax: all-team@sylvester-ev.de\noder sprecht direkt die Mitarbeiterinnen im Würfel an. \nDas Projekt ist eine Kooperation zwischen der Mobilen Stadtteilarbeit\, dem All-Team und dem Würfel. Es wird durch die Mittel der Maßnahme: „Stärkung Berliner Großsiedlungen – Verfügungsfond“ unterstützt.
URL:https://www.benn-allende-viertel.de/event/dj-workshop-2/
LOCATION:JFE Würfel\, Alfred-Randt-Straße 52\, Berlin\, Berlin\, 12559\, Deutschland
CATEGORIES:externe Veranstaltung,Familie & Kinder
ATTACH;FMTTYPE=image/png:https://www.benn-allende-viertel.de/wp-content/uploads/sites/8/2025/10/DJ-Workshop-insta.png
ORGANIZER;CN="Mobile Stadtteilarbeit Allende Viertel":MAILTO:most-allende@offensiv91.de
END:VEVENT
BEGIN:VEVENT
DTSTART;TZID=Europe/Berlin:20250606T190000
DTEND;TZID=Europe/Berlin:20250606T210000
DTSTAMP:20260423T115205
CREATED:20250527T160340Z
LAST-MODIFIED:20250527T160548Z
UID:10001202-1749236400-1749243600@www.benn-allende-viertel.de
SUMMARY:Jugendbeteiligungstreffen Allende-Viertel
DESCRIPTION:Jugendbeteiligungstreffen im Allende-Viertel \nDu willst etwas in deinem Kiez verändern? Dann bist du hier genau richtig! \nBeim Jugendbeteiligungstreffen im Allende-Viertel sind alle Jugendlichen und jungen Erwachsenen ab 14 Jahren eingeladen\, die hier wohnen oder ihre Freizeit verbringen. Es geht um deine Ideen\, deine Themen und deine Stimme! \nMitreden. Mitmachen. Mitbestimmen. \nGestalte gemeinsam mit anderen die Zukunft des Allende-Viertels – egal ob du schon konkrete Vorschläge hast oder einfach neugierig bist. Wir schaffen Raum für Austausch\, Beteiligung und deine Perspektiven. \nUnd danach? Open House & Party!Abschluss mit Musik und guter Stimmung – wir feiern bis 00:00 Uhr! \nSei dabei und mach Veränderung möglich!
URL:https://www.benn-allende-viertel.de/event/jugendbeteiligungstreffen-allende-viertel/
LOCATION:JFE Würfel\, Alfred-Randt-Straße 52\, Berlin\, Berlin\, 12559\, Deutschland
CATEGORIES:Beteiligungsveranstaltung,externe Veranstaltung
ATTACH;FMTTYPE=image/png:https://www.benn-allende-viertel.de/wp-content/uploads/sites/8/2025/05/Veranstaltungsbild-allgemein-30x17-1-scaled.png
END:VEVENT
END:VCALENDAR