BEGIN:VCALENDAR
VERSION:2.0
PRODID:-//BENN Allende-Viertel - ECPv6.15.20//NONSGML v1.0//EN
CALSCALE:GREGORIAN
METHOD:PUBLISH
X-ORIGINAL-URL:https://www.benn-allende-viertel.de
X-WR-CALDESC:Veranstaltungen für BENN Allende-Viertel
REFRESH-INTERVAL;VALUE=DURATION:PT1H
X-Robots-Tag:noindex
X-PUBLISHED-TTL:PT1H
BEGIN:VTIMEZONE
TZID:Europe/Berlin
BEGIN:DAYLIGHT
TZOFFSETFROM:+0100
TZOFFSETTO:+0200
TZNAME:CEST
DTSTART:20240331T010000
END:DAYLIGHT
BEGIN:STANDARD
TZOFFSETFROM:+0200
TZOFFSETTO:+0100
TZNAME:CET
DTSTART:20241027T010000
END:STANDARD
BEGIN:DAYLIGHT
TZOFFSETFROM:+0100
TZOFFSETTO:+0200
TZNAME:CEST
DTSTART:20250330T010000
END:DAYLIGHT
BEGIN:STANDARD
TZOFFSETFROM:+0200
TZOFFSETTO:+0100
TZNAME:CET
DTSTART:20251026T010000
END:STANDARD
BEGIN:DAYLIGHT
TZOFFSETFROM:+0100
TZOFFSETTO:+0200
TZNAME:CEST
DTSTART:20260329T010000
END:DAYLIGHT
BEGIN:STANDARD
TZOFFSETFROM:+0200
TZOFFSETTO:+0100
TZNAME:CET
DTSTART:20261025T010000
END:STANDARD
END:VTIMEZONE
BEGIN:VEVENT
DTSTART;TZID=Europe/Berlin:20250903T140000
DTEND;TZID=Europe/Berlin:20250903T160000
DTSTAMP:20260425T154910
CREATED:20250814T150815Z
LAST-MODIFIED:20250826T140404Z
UID:10001582-1756908000-1756915200@www.benn-allende-viertel.de
SUMMARY:Sommerbastelprogramm für Kinder & Jugendliche
DESCRIPTION:In den Sommerferien gibt es ein buntes Bastelangebot für Kinder und Jugendliche. Unter anderem gibt es ein mobiles Nagestudio\, es können Macramé Bänder geknüpft und Beutel gestaltet werden. Das Angebot findet jeden Mittwoch auf der Wiese zwischen der Turnhalle der Amtsfeld-Grundschule und dem S-Block statt und ist kostenlos. Eine Anmeldung ist nicht notwendig\, kommt einfach vorbei! \nAm 20. August entfällt das Angebot! \n 
URL:https://www.benn-allende-viertel.de/event/sommerbastelprogramm-fuer-kinder-jugendliche/2025-09-03/
LOCATION:Wiese vor der Amtsfeld Grundschule
CATEGORIES:externe Veranstaltung,Familie & Kinder
ATTACH;FMTTYPE=image/png:https://www.benn-allende-viertel.de/wp-content/uploads/sites/8/2025/06/MoSt_Veranstaltungsbild-scaled.png
ORGANIZER;CN="Mobile Stadtteilarbeit Allende Viertel":MAILTO:most-allende@offensiv91.de
END:VEVENT
BEGIN:VEVENT
DTSTART;TZID=Europe/Berlin:20250827T140000
DTEND;TZID=Europe/Berlin:20250827T160000
DTSTAMP:20260425T154910
CREATED:20250814T150815Z
LAST-MODIFIED:20250826T140404Z
UID:10001581-1756303200-1756310400@www.benn-allende-viertel.de
SUMMARY:Sommerbastelprogramm für Kinder & Jugendliche
DESCRIPTION:In den Sommerferien gibt es ein buntes Bastelangebot für Kinder und Jugendliche. Unter anderem gibt es ein mobiles Nagestudio\, es können Macramé Bänder geknüpft und Beutel gestaltet werden. Das Angebot findet jeden Mittwoch auf der Wiese zwischen der Turnhalle der Amtsfeld-Grundschule und dem S-Block statt und ist kostenlos. Eine Anmeldung ist nicht notwendig\, kommt einfach vorbei! \nAm 20. August entfällt das Angebot! \n 
URL:https://www.benn-allende-viertel.de/event/sommerbastelprogramm-fuer-kinder-jugendliche/2025-08-27/
LOCATION:Wiese vor der Amtsfeld Grundschule
CATEGORIES:externe Veranstaltung,Familie & Kinder
ATTACH;FMTTYPE=image/png:https://www.benn-allende-viertel.de/wp-content/uploads/sites/8/2025/06/MoSt_Veranstaltungsbild-scaled.png
ORGANIZER;CN="Mobile Stadtteilarbeit Allende Viertel":MAILTO:most-allende@offensiv91.de
END:VEVENT
BEGIN:VEVENT
DTSTART;TZID=Europe/Berlin:20250813T140000
DTEND;TZID=Europe/Berlin:20250813T160000
DTSTAMP:20260425T154910
CREATED:20250814T150815Z
LAST-MODIFIED:20250826T140404Z
UID:10001580-1755093600-1755100800@www.benn-allende-viertel.de
SUMMARY:Sommerbastelprogramm für Kinder & Jugendliche
DESCRIPTION:In den Sommerferien gibt es ein buntes Bastelangebot für Kinder und Jugendliche. Unter anderem gibt es ein mobiles Nagestudio\, es können Macramé Bänder geknüpft und Beutel gestaltet werden. Das Angebot findet jeden Mittwoch auf der Wiese zwischen der Turnhalle der Amtsfeld-Grundschule und dem S-Block statt und ist kostenlos. Eine Anmeldung ist nicht notwendig\, kommt einfach vorbei! \nAm 20. August entfällt das Angebot! \n 
URL:https://www.benn-allende-viertel.de/event/sommerbastelprogramm-fuer-kinder-jugendliche/2025-08-13/
LOCATION:Wiese vor der Amtsfeld Grundschule
CATEGORIES:externe Veranstaltung,Familie & Kinder
ATTACH;FMTTYPE=image/png:https://www.benn-allende-viertel.de/wp-content/uploads/sites/8/2025/06/MoSt_Veranstaltungsbild-scaled.png
ORGANIZER;CN="Mobile Stadtteilarbeit Allende Viertel":MAILTO:most-allende@offensiv91.de
END:VEVENT
BEGIN:VEVENT
DTSTART;TZID=Europe/Berlin:20250806T140000
DTEND;TZID=Europe/Berlin:20250806T160000
DTSTAMP:20260425T154910
CREATED:20250814T150815Z
LAST-MODIFIED:20250826T140404Z
UID:10001579-1754488800-1754496000@www.benn-allende-viertel.de
SUMMARY:Sommerbastelprogramm für Kinder & Jugendliche
DESCRIPTION:In den Sommerferien gibt es ein buntes Bastelangebot für Kinder und Jugendliche. Unter anderem gibt es ein mobiles Nagestudio\, es können Macramé Bänder geknüpft und Beutel gestaltet werden. Das Angebot findet jeden Mittwoch auf der Wiese zwischen der Turnhalle der Amtsfeld-Grundschule und dem S-Block statt und ist kostenlos. Eine Anmeldung ist nicht notwendig\, kommt einfach vorbei! \nAm 20. August entfällt das Angebot! \n 
URL:https://www.benn-allende-viertel.de/event/sommerbastelprogramm-fuer-kinder-jugendliche/2025-08-06/
LOCATION:Wiese vor der Amtsfeld Grundschule
CATEGORIES:externe Veranstaltung,Familie & Kinder
ATTACH;FMTTYPE=image/png:https://www.benn-allende-viertel.de/wp-content/uploads/sites/8/2025/06/MoSt_Veranstaltungsbild-scaled.png
ORGANIZER;CN="Mobile Stadtteilarbeit Allende Viertel":MAILTO:most-allende@offensiv91.de
END:VEVENT
BEGIN:VEVENT
DTSTART;TZID=Europe/Berlin:20250730T140000
DTEND;TZID=Europe/Berlin:20250730T160000
DTSTAMP:20260425T154910
CREATED:20250814T150815Z
LAST-MODIFIED:20250826T140404Z
UID:10001578-1753884000-1753891200@www.benn-allende-viertel.de
SUMMARY:Sommerbastelprogramm für Kinder & Jugendliche
DESCRIPTION:In den Sommerferien gibt es ein buntes Bastelangebot für Kinder und Jugendliche. Unter anderem gibt es ein mobiles Nagestudio\, es können Macramé Bänder geknüpft und Beutel gestaltet werden. Das Angebot findet jeden Mittwoch auf der Wiese zwischen der Turnhalle der Amtsfeld-Grundschule und dem S-Block statt und ist kostenlos. Eine Anmeldung ist nicht notwendig\, kommt einfach vorbei! \nAm 20. August entfällt das Angebot! \n 
URL:https://www.benn-allende-viertel.de/event/sommerbastelprogramm-fuer-kinder-jugendliche/2025-07-30/
LOCATION:Wiese vor der Amtsfeld Grundschule
CATEGORIES:externe Veranstaltung,Familie & Kinder
ATTACH;FMTTYPE=image/png:https://www.benn-allende-viertel.de/wp-content/uploads/sites/8/2025/06/MoSt_Veranstaltungsbild-scaled.png
ORGANIZER;CN="Mobile Stadtteilarbeit Allende Viertel":MAILTO:most-allende@offensiv91.de
END:VEVENT
END:VCALENDAR