BEGIN:VCALENDAR
VERSION:2.0
PRODID:-//BENN Allende-Viertel - ECPv6.15.20//NONSGML v1.0//EN
CALSCALE:GREGORIAN
METHOD:PUBLISH
X-WR-CALNAME:BENN Allende-Viertel
X-ORIGINAL-URL:https://www.benn-allende-viertel.de
X-WR-CALDESC:Veranstaltungen für BENN Allende-Viertel
REFRESH-INTERVAL;VALUE=DURATION:PT1H
X-Robots-Tag:noindex
X-PUBLISHED-TTL:PT1H
BEGIN:VTIMEZONE
TZID:Europe/Berlin
BEGIN:DAYLIGHT
TZOFFSETFROM:+0100
TZOFFSETTO:+0200
TZNAME:CEST
DTSTART:20240331T010000
END:DAYLIGHT
BEGIN:STANDARD
TZOFFSETFROM:+0200
TZOFFSETTO:+0100
TZNAME:CET
DTSTART:20241027T010000
END:STANDARD
BEGIN:DAYLIGHT
TZOFFSETFROM:+0100
TZOFFSETTO:+0200
TZNAME:CEST
DTSTART:20250330T010000
END:DAYLIGHT
BEGIN:STANDARD
TZOFFSETFROM:+0200
TZOFFSETTO:+0100
TZNAME:CET
DTSTART:20251026T010000
END:STANDARD
BEGIN:DAYLIGHT
TZOFFSETFROM:+0100
TZOFFSETTO:+0200
TZNAME:CEST
DTSTART:20260329T010000
END:DAYLIGHT
BEGIN:STANDARD
TZOFFSETFROM:+0200
TZOFFSETTO:+0100
TZNAME:CET
DTSTART:20261025T010000
END:STANDARD
END:VTIMEZONE
BEGIN:VEVENT
DTSTART;VALUE=DATE:20251204
DTEND;VALUE=DATE:20251206
DTSTAMP:20260420T094319
CREATED:20251028T103547Z
LAST-MODIFIED:20251028T103547Z
UID:10001787-1764806400-1764979199@www.benn-allende-viertel.de
SUMMARY:Schulungsreihe "Hilfen beim Helfen"
DESCRIPTION:Ein Kursangebot für An- und Zugehörige von Menschen mit Demenz – in Kooperation mit der Alzheimer Gesellschaft Berlin e. V. \nDie Schulungsreihe umfasst acht aufeinander aufbauende Module\, die sowohl Wissen als auch konkrete Entlastung vermitteln: \n– Informationen zu Demenzen\, insbesondere zur Alzheimer-Krankheit\n– Aufzeigen von Zugängen zu Menschen mit Demenz\n– Wissenswertes zur Pflegeversicherung\n– Rechtliche und ethische Fragestellungen\n– Entlastungsmöglichkeiten für pflegende An- und Zugehörige \nDie Module schaffen zudem Raum für Austausch mit anderen Betroffenen und fördern gegenseitige Unterstützung. \nWir bitten um eine vorherige Anmeldung\, um auf Ihre Bedürfnisse eingehen\, und die Schulungsreihe individuell gestalten zu können.\nTelefon: (030) 30 335 – 3378\nE-Mail: chn.koepenick@drk-kliniken-berlin.de
URL:https://www.benn-allende-viertel.de/event/schulungsreihe-hilfen-beim-helfen/
LOCATION:DRK Kliniken Berlin Köpenick\, Salvador-Allende-Str. 2 -8\, Berlin\, Berlin\, 12559\, Deutschland
CATEGORIES:externe Veranstaltung,Gesundheit & Bewegung
ATTACH;FMTTYPE=image/png:https://www.benn-allende-viertel.de/wp-content/uploads/sites/8/2025/06/Veranstaltungsbild_allgemein-scaled.png
END:VEVENT
BEGIN:VEVENT
DTSTART;TZID=Europe/Berlin:20250919T113000
DTEND;TZID=Europe/Berlin:20250919T170000
DTSTAMP:20260420T094319
CREATED:20250910T103124Z
LAST-MODIFIED:20250910T103139Z
UID:10001654-1758281400-1758301200@www.benn-allende-viertel.de
SUMMARY:Demenzaktionstag
DESCRIPTION:Am Freitag\, den 19. September 2025\, lädt die Initiative Demenzfreundlich des Netzwerks „Leben im Kiez“ Treptow-Köpenick herzlich zum Demenzaktionstag auf das Gelände der DRK Kliniken Berlin Köpenick ein.\nVon 11:30 bis 17 Uhr erwartet die Besucherinnen und Besucher ein abwechslungsreiches Programm mit Fachvorträgen zu Gedächtnisgesundheit\, Pflege\, Therapiemöglichkeiten\, Wohn- und Betreuungsformen\, Vorsorge und Selbsthilfe. Ergänzt wird der Tag durch anschauliche Erfahrungsberichte\, Informationsstände sowie einen stimmungsvollen musikalischen Abschluss mit der Weltmusik-Band José Promis REAS.\nKommen Sie vorbei\, informieren Sie sich und nutzen Sie die Gelegenheit zum Austausch. Die Teilnahme ist kostenfrei\, eine Anmeldung nicht erforderlich.
URL:https://www.benn-allende-viertel.de/event/demenzaktionstag-am-19-09-2025/
LOCATION:DRK Kliniken Berlin Köpenick\, Salvador-Allende-Str. 2 -8\, Berlin\, Berlin\, 12559\, Deutschland
CATEGORIES:externe Veranstaltung,Gesundheit & Bewegung
ATTACH;FMTTYPE=image/png:https://www.benn-allende-viertel.de/wp-content/uploads/sites/8/2025/09/Demenzaktionstag.png
END:VEVENT
END:VCALENDAR