BEGIN:VCALENDAR
VERSION:2.0
PRODID:-//BENN Allende-Viertel - ECPv6.15.20//NONSGML v1.0//EN
CALSCALE:GREGORIAN
METHOD:PUBLISH
X-ORIGINAL-URL:https://www.benn-allende-viertel.de
X-WR-CALDESC:Veranstaltungen für BENN Allende-Viertel
REFRESH-INTERVAL;VALUE=DURATION:PT1H
X-Robots-Tag:noindex
X-PUBLISHED-TTL:PT1H
BEGIN:VTIMEZONE
TZID:Europe/Berlin
BEGIN:DAYLIGHT
TZOFFSETFROM:+0100
TZOFFSETTO:+0200
TZNAME:CEST
DTSTART:20240331T010000
END:DAYLIGHT
BEGIN:STANDARD
TZOFFSETFROM:+0200
TZOFFSETTO:+0100
TZNAME:CET
DTSTART:20241027T010000
END:STANDARD
BEGIN:DAYLIGHT
TZOFFSETFROM:+0100
TZOFFSETTO:+0200
TZNAME:CEST
DTSTART:20250330T010000
END:DAYLIGHT
BEGIN:STANDARD
TZOFFSETFROM:+0200
TZOFFSETTO:+0100
TZNAME:CET
DTSTART:20251026T010000
END:STANDARD
BEGIN:DAYLIGHT
TZOFFSETFROM:+0100
TZOFFSETTO:+0200
TZNAME:CEST
DTSTART:20260329T010000
END:DAYLIGHT
BEGIN:STANDARD
TZOFFSETFROM:+0200
TZOFFSETTO:+0100
TZNAME:CET
DTSTART:20261025T010000
END:STANDARD
END:VTIMEZONE
BEGIN:VEVENT
DTSTART;TZID=Europe/Berlin:20250702T163000
DTEND;TZID=Europe/Berlin:20250702T190000
DTSTAMP:20260423T131832
CREATED:20250625T113534Z
LAST-MODIFIED:20250625T113534Z
UID:10001564-1751473800-1751482800@www.benn-allende-viertel.de
SUMMARY:Neptunfest
DESCRIPTION:Neptunfest im Flussbad Gartenstraße! \nNeptun\, der Herr der Meere\, Seen\, Tümpel und Pfützen steigt aus den Tiefen zu euch herauf und wird einige Landratten in sein Gefolge aufnehmen. Und das mit einer würdigen Neptuntaufe. Kommt vorbei und bestaunet das Spektakel! \nÖffentliche Taufe: 16.30 Uhr \nFür Schulklassen: 11:30 Uhr und 13:30 Uhr \nAnmeldung unter: neptunfest@sylvester-ev.de oder 0170 7159778
URL:https://www.benn-allende-viertel.de/event/neptunfest/
CATEGORIES:externe Veranstaltung,Familie & Kinder,Feste
ATTACH;FMTTYPE=image/png:https://www.benn-allende-viertel.de/wp-content/uploads/sites/8/2025/03/Kein-Titel-30-x-17-cm.png
ORGANIZER;CN="Sylvester e.V.":MAILTO:info@sylvester-ev.de
END:VEVENT
BEGIN:VEVENT
DTSTART;TZID=Europe/Berlin:20250518T110000
DTEND;TZID=Europe/Berlin:20250518T180000
DTSTAMP:20260423T131832
CREATED:20250507T153849Z
LAST-MODIFIED:20250507T153907Z
UID:10001195-1747566000-1747591200@www.benn-allende-viertel.de
SUMMARY:Flohmarkt
DESCRIPTION:Ob Trödel\, Bücher\, Kleidung oder kleine Schätze – beim Flohmarkt in der BUDE ist für alle etwas dabei! Kommen Sie vorbei\, lernen Sie Nachbarinnen und Nachbarn kennen und genießen Sie die lebendige Atmosphäre. Essen und Getränke gibt es gegen kleinen Taler.  \nStandgebühr: 5 € \nAnmeldung: bude@sylvester-ev.de
URL:https://www.benn-allende-viertel.de/event/flohmarkt/2025-05-18/
LOCATION:Mehrgenerationengarten „Bude“\, Alfred-Randt-Straße 60\, Berlin\, Berlin\, 12559\, Deutschland
CATEGORIES:externe Veranstaltung
ORGANIZER;CN="Sylvester e.V.":MAILTO:info@sylvester-ev.de
END:VEVENT
BEGIN:VEVENT
DTSTART;TZID=Europe/Berlin:20250517T130000
DTEND;TZID=Europe/Berlin:20250517T190000
DTSTAMP:20260423T131832
CREATED:20250507T153215Z
LAST-MODIFIED:20250507T153215Z
UID:10001193-1747486800-1747508400@www.benn-allende-viertel.de
SUMMARY:Tischtennisturnier
DESCRIPTION:Tischtennisturnier auf dem Sportplatz an der BUDE \nVoranmeldung erwünscht! per Mail an all-team@sylvester-ev.de \nEssen und Getränke in der BUDE \n 
URL:https://www.benn-allende-viertel.de/event/tischtennisturnier/
LOCATION:Mehrgenerationengarten „Bude“\, Alfred-Randt-Straße 60\, Berlin\, Berlin\, 12559\, Deutschland
CATEGORIES:externe Veranstaltung
ORGANIZER;CN="Sylvester e.V.":MAILTO:info@sylvester-ev.de
END:VEVENT
BEGIN:VEVENT
DTSTART;TZID=Europe/Berlin:20250517T110000
DTEND;TZID=Europe/Berlin:20250517T180000
DTSTAMP:20260423T131832
CREATED:20250507T153849Z
LAST-MODIFIED:20250507T153907Z
UID:10001194-1747479600-1747504800@www.benn-allende-viertel.de
SUMMARY:Flohmarkt
DESCRIPTION:Ob Trödel\, Bücher\, Kleidung oder kleine Schätze – beim Flohmarkt in der BUDE ist für alle etwas dabei! Kommen Sie vorbei\, lernen Sie Nachbarinnen und Nachbarn kennen und genießen Sie die lebendige Atmosphäre. Essen und Getränke gibt es gegen kleinen Taler.  \nStandgebühr: 5 € \nAnmeldung: bude@sylvester-ev.de
URL:https://www.benn-allende-viertel.de/event/flohmarkt/2025-05-17/
LOCATION:Mehrgenerationengarten „Bude“\, Alfred-Randt-Straße 60\, Berlin\, Berlin\, 12559\, Deutschland
CATEGORIES:externe Veranstaltung
ORGANIZER;CN="Sylvester e.V.":MAILTO:info@sylvester-ev.de
END:VEVENT
BEGIN:VEVENT
DTSTART;TZID=Europe/Berlin:20250420T150000
DTEND;TZID=Europe/Berlin:20250420T220000
DTSTAMP:20260423T131832
CREATED:20250317T095823Z
LAST-MODIFIED:20250317T095823Z
UID:10001143-1745161200-1745186400@www.benn-allende-viertel.de
SUMMARY:Osterfeuer BUDE
DESCRIPTION:Osterfeuer auf dem Gelände des Mehrgenerationsgartens BUDE mit Osterkörbchensuche\, Osterspaß\, Osterwässerchen\, Grill und Suppe.
URL:https://www.benn-allende-viertel.de/event/osterfeuer-bude/
LOCATION:Mehrgenerationengarten „Bude“\, Alfred-Randt-Straße 60\, Berlin\, Berlin\, 12559\, Deutschland
CATEGORIES:externe Veranstaltung,Sonstiges
ATTACH;FMTTYPE=image/png:https://www.benn-allende-viertel.de/wp-content/uploads/sites/8/2025/03/Kein-Titel-30-x-17-cm.png
ORGANIZER;CN="Sylvester e.V.":MAILTO:info@sylvester-ev.de
END:VEVENT
END:VCALENDAR